BEGIN:VCALENDAR
VERSION:2.0
PRODID:-//NIA 20 - ECPv6.10.2//NONSGML v1.0//EN
CALSCALE:GREGORIAN
METHOD:PUBLISH
X-ORIGINAL-URL:https://aa-nia.org
X-WR-CALDESC:Events for NIA 20
REFRESH-INTERVAL;VALUE=DURATION:PT1H
X-Robots-Tag:noindex
X-PUBLISHED-TTL:PT1H
BEGIN:VTIMEZONE
TZID:America/Chicago
BEGIN:DAYLIGHT
TZOFFSETFROM:-0600
TZOFFSETTO:-0500
TZNAME:CDT
DTSTART:20260308T080000
END:DAYLIGHT
BEGIN:STANDARD
TZOFFSETFROM:-0500
TZOFFSETTO:-0600
TZNAME:CST
DTSTART:20261101T070000
END:STANDARD
END:VTIMEZONE
BEGIN:VEVENT
DTSTART;TZID=America/Chicago:20260307T090000
DTEND;TZID=America/Chicago:20260307T090000
DTSTAMP:20260420T064618
CREATED:20260223T002328Z
LAST-MODIFIED:20260223T002412Z
UID:10000771-1772874000-1772874000@aa-nia.org
SUMMARY:NIA 20 GSR School - Rockford
DESCRIPTION:Open this Event and Click HERE for Flyer
URL:https://aa-nia.org/event/nia-20-gsr-school-rockford/
LOCATION:Rockford Alano Club\, 1210 11th Street\, Rockford\, IL\, 61104\, United States
END:VEVENT
BEGIN:VEVENT
DTSTART;TZID=America/Chicago:20260308T160000
DTEND;TZID=America/Chicago:20260308T170000
DTSTAMP:20260420T064618
CREATED:20260113T001652Z
LAST-MODIFIED:20260113T001652Z
UID:10000708-1772985600-1772989200@aa-nia.org
SUMMARY:Archives Monthly Sharing Session
DESCRIPTION:Open event and click here for the flyer. \nZOOM MEETING ID: 847 7879 2869\nPasscode: 516980 OR\nCall in +13126266799\, US (Chicago)
URL:https://aa-nia.org/event/archives-monthly-sharing-session/2026-03-08/
LOCATION:ZOOM
END:VEVENT
BEGIN:VEVENT
DTSTART;VALUE=DATE:20260313
DTEND;VALUE=DATE:20260316
DTSTAMP:20260420T064618
CREATED:20250921T181012Z
LAST-MODIFIED:20260214T220703Z
UID:10000687-1773360000-1773619199@aa-nia.org
SUMMARY:2026 NIA20 Spring Conference
DESCRIPTION:Click HERE for Flyer with Registration Info \nClick HERE for online Registration \nClick HERE for online Hotel Reservations \n 
URL:https://aa-nia.org/event/2026-nia20-spring-conference/
LOCATION:Hyatt Regency Schaumburg\, 1800 East Golf Road\, Schaumburg\, IL\, 60173\, United States
END:VEVENT
BEGIN:VEVENT
DTSTART;TZID=America/Chicago:20260314T090000
DTEND;TZID=America/Chicago:20260314T130000
DTSTAMP:20260420T064618
CREATED:20260101T203727Z
LAST-MODIFIED:20260223T001909Z
UID:10000696-1773478800-1773493200@aa-nia.org
SUMMARY:2026 Spring Assembly
DESCRIPTION:Please Open This Event and Click HERE for Flyer (English) \nPlease Open This Event and Click HERE for Flyer (Spanish) \nIf attending via Zoom\, you must register HERE for access
URL:https://aa-nia.org/event/2026-spring-assembly/
LOCATION:Hyatt Regency Schaumburg\, 1800 East Golf Road\, Schaumburg\, IL\, 60173\, United States
END:VEVENT
BEGIN:VEVENT
DTSTART;TZID=America/Chicago:20260322T113000
DTEND;TZID=America/Chicago:20260322T143000
DTSTAMP:20260420T064618
CREATED:20260113T000704Z
LAST-MODIFIED:20260113T000704Z
UID:10000706-1774179000-1774189800@aa-nia.org
SUMMARY:District 52 Tech Shop- On AA & Grapevine Literature
DESCRIPTION:Open event and click here for flyer.
URL:https://aa-nia.org/event/district-52-tech-shop-on-aa-grapevine-literature/
LOCATION:Kankakee Alano Club\, 1245 East River Street\, Kankakee\, IL\, 60901\, United States
END:VEVENT
END:VCALENDAR