BEGIN:VCALENDAR
VERSION:2.0
PRODID:-//NIA 20 - ECPv6.10.2//NONSGML v1.0//EN
CALSCALE:GREGORIAN
METHOD:PUBLISH
X-WR-CALNAME:NIA 20
X-ORIGINAL-URL:https://aa-nia.org
X-WR-CALDESC:Events for NIA 20
REFRESH-INTERVAL;VALUE=DURATION:PT1H
X-Robots-Tag:noindex
X-PUBLISHED-TTL:PT1H
BEGIN:VTIMEZONE
TZID:America/Chicago
BEGIN:DAYLIGHT
TZOFFSETFROM:-0600
TZOFFSETTO:-0500
TZNAME:CDT
DTSTART:20260308T080000
END:DAYLIGHT
BEGIN:STANDARD
TZOFFSETFROM:-0500
TZOFFSETTO:-0600
TZNAME:CST
DTSTART:20261101T070000
END:STANDARD
END:VTIMEZONE
BEGIN:VEVENT
DTSTART;VALUE=DATE:20260426
DTEND;VALUE=DATE:20260503
DTSTAMP:20260420T064448
CREATED:20260101T211151Z
LAST-MODIFIED:20260101T211151Z
UID:10000698-1777161600-1777766399@aa-nia.org
SUMMARY:76th General Service Conference
DESCRIPTION:
URL:https://aa-nia.org/event/76th-general-service-conference/
LOCATION:New York Hilton – Midtown\, 1335 6th Ave\, New York\, NY\, 10019\, United States
END:VEVENT
BEGIN:VEVENT
DTSTART;TZID=America/Chicago:20260502T130000
DTEND;TZID=America/Chicago:20260502T153000
DTSTAMP:20260420T064448
CREATED:20260404T220030Z
LAST-MODIFIED:20260404T220752Z
UID:10000776-1777726800-1777735800@aa-nia.org
SUMMARY:Elgin District 22 Treatment Committee Workshop
DESCRIPTION:Please open this event and click HERE for flyer
URL:https://aa-nia.org/event/elgin-district-22-treatment-committee-workshop/
LOCATION:Footprints To Recovery Auditorium\, 411 W. River Road\, Elgin\, IL\, 60123\, United States
END:VEVENT
BEGIN:VEVENT
DTSTART;TZID=America/Chicago:20260510T160000
DTEND;TZID=America/Chicago:20260510T170000
DTSTAMP:20260420T064448
CREATED:20260113T001652Z
LAST-MODIFIED:20260113T001652Z
UID:10000710-1778428800-1778432400@aa-nia.org
SUMMARY:Archives Monthly Sharing Session
DESCRIPTION:Open event and click here for the flyer. \nZOOM MEETING ID: 847 7879 2869\nPasscode: 516980 OR\nCall in +13126266799\, US (Chicago)
URL:https://aa-nia.org/event/archives-monthly-sharing-session/2026-05-10/
LOCATION:ZOOM
END:VEVENT
BEGIN:VEVENT
DTSTART;TZID=America/Chicago:20260516T080000
DTEND;TZID=America/Chicago:20260516T150000
DTSTAMP:20260420T064448
CREATED:20260101T211343Z
LAST-MODIFIED:20260419T161928Z
UID:10000699-1778918400-1778943600@aa-nia.org
SUMMARY:2026 Spring Committee Meeting
DESCRIPTION:Open This Event and Click HERE for Flyer \n  \nClick HERE to Register if joining by Zoom
URL:https://aa-nia.org/event/2026-spring-committee-meeting/
LOCATION:Lord of Life\, 40W605 IL-38\, Elburn\, IL\, 60119\, United States
END:VEVENT
BEGIN:VEVENT
DTSTART;TZID=America/Chicago:20260516T190000
DTEND;TZID=America/Chicago:20260516T220000
DTSTAMP:20260420T064448
CREATED:20260101T161723Z
LAST-MODIFIED:20260101T202706Z
UID:10000693-1778958000-1778968800@aa-nia.org
SUMMARY:31st Annual Fox Valley Open
DESCRIPTION:Open This Event & Click HERE for flyer
URL:https://aa-nia.org/event/31st-annual-fox-valley-open/
LOCATION:Lord of Life\, 40W605 IL-38\, Elburn\, IL\, 60119\, United States
END:VEVENT
BEGIN:VEVENT
DTSTART;VALUE=DATE:20260522
DTEND;VALUE=DATE:20260525
DTSTAMP:20260420T064448
CREATED:20260404T221148Z
LAST-MODIFIED:20260404T221148Z
UID:10000777-1779408000-1779667199@aa-nia.org
SUMMARY:XLII Convencion De Alcholicos Anonimos Del Estado De Illinois
DESCRIPTION:Open event and click HERE for Flyer \nNo English version available
URL:https://aa-nia.org/event/xlii-convencion-de-alcholicos-anonimos-del-estado-de-illinois/
LOCATION:Hotel Hilton\, 5550 N. River Road\, Rosemont\, IL\, 60018\, United States
END:VEVENT
BEGIN:VEVENT
DTSTART;TZID=America/Chicago:20260523T113000
DTEND;TZID=America/Chicago:20260523T123000
DTSTAMP:20260420T064448
CREATED:20260321T201325Z
LAST-MODIFIED:20260321T201325Z
UID:10000775-1779535800-1779539400@aa-nia.org
SUMMARY:GSR School District 10
DESCRIPTION:Open this Event and Click HERE for Flyer
URL:https://aa-nia.org/event/gsr-school-district-10/
LOCATION:Serenity Houose\, 1103 West Park Avenue\, Libertyville\, IL\, 60048\, United States
END:VEVENT
END:VCALENDAR