BEGIN:VCALENDAR
VERSION:2.0
PRODID:-//NIA 20 - ECPv6.10.2//NONSGML v1.0//EN
CALSCALE:GREGORIAN
METHOD:PUBLISH
X-ORIGINAL-URL:https://aa-nia.org
X-WR-CALDESC:Events for NIA 20
REFRESH-INTERVAL;VALUE=DURATION:PT1H
X-Robots-Tag:noindex
X-PUBLISHED-TTL:PT1H
BEGIN:VTIMEZONE
TZID:America/Chicago
BEGIN:DAYLIGHT
TZOFFSETFROM:-0600
TZOFFSETTO:-0500
TZNAME:CDT
DTSTART:20260308T080000
END:DAYLIGHT
BEGIN:STANDARD
TZOFFSETFROM:-0500
TZOFFSETTO:-0600
TZNAME:CST
DTSTART:20261101T070000
END:STANDARD
END:VTIMEZONE
BEGIN:VEVENT
DTSTART;TZID=America/Chicago:20260606T140000
DTEND;TZID=America/Chicago:20260606T160000
DTSTAMP:20260420T081353
CREATED:20260418T180721Z
LAST-MODIFIED:20260418T180721Z
UID:10000778-1780754400-1780761600@aa-nia.org
SUMMARY:Answering Service Workshop
DESCRIPTION:Open this Event and Click HERE for Flyer
URL:https://aa-nia.org/event/answering-service-workshop/
LOCATION:EDI Club\, 18 W. Streamwood Blvd\, Streamwood\, IL\, 60107\, United States
END:VEVENT
BEGIN:VEVENT
DTSTART;TZID=America/Chicago:20260614T160000
DTEND;TZID=America/Chicago:20260614T170000
DTSTAMP:20260420T081353
CREATED:20260113T001652Z
LAST-MODIFIED:20260113T001652Z
UID:10000711-1781452800-1781456400@aa-nia.org
SUMMARY:Archives Monthly Sharing Session
DESCRIPTION:Open event and click here for the flyer. \nZOOM MEETING ID: 847 7879 2869\nPasscode: 516980 OR\nCall in +13126266799\, US (Chicago)
URL:https://aa-nia.org/event/archives-monthly-sharing-session/2026-06-14/
LOCATION:ZOOM
END:VEVENT
BEGIN:VEVENT
DTSTART;TZID=America/Chicago:20260620T080000
DTEND;TZID=America/Chicago:20260620T150000
DTSTAMP:20260420T081353
CREATED:20260101T211548Z
LAST-MODIFIED:20260101T211548Z
UID:10000700-1781942400-1781967600@aa-nia.org
SUMMARY:2026 NIA 20 Summer Assembly
DESCRIPTION:
URL:https://aa-nia.org/event/2026-nia-20-summer-assembly/
LOCATION:TBD
END:VEVENT
BEGIN:VEVENT
DTSTART;VALUE=DATE:20260626
DTEND;VALUE=DATE:20260629
DTSTAMP:20260420T081353
CREATED:20260101T212248Z
LAST-MODIFIED:20260101T212248Z
UID:10000701-1782432000-1782691199@aa-nia.org
SUMMARY:East Central Regional Conference
DESCRIPTION:Open this Event and click HERE for flyer
URL:https://aa-nia.org/event/east-central-regional-conference/
LOCATION:University of Wisconsin – Eau Claire – Davies Center\, 77 Roosevelt Ave.\, Eau Claire\, WI\, 54701\, United States
END:VEVENT
END:VCALENDAR