BEGIN:VCALENDAR
VERSION:2.0
PRODID:-//NIA 20 - ECPv6.10.2//NONSGML v1.0//EN
CALSCALE:GREGORIAN
METHOD:PUBLISH
X-ORIGINAL-URL:https://aa-nia.org
X-WR-CALDESC:Events for NIA 20
REFRESH-INTERVAL;VALUE=DURATION:PT1H
X-Robots-Tag:noindex
X-PUBLISHED-TTL:PT1H
BEGIN:VTIMEZONE
TZID:America/Chicago
BEGIN:DAYLIGHT
TZOFFSETFROM:-0600
TZOFFSETTO:-0500
TZNAME:CDT
DTSTART:20260308T080000
END:DAYLIGHT
BEGIN:STANDARD
TZOFFSETFROM:-0500
TZOFFSETTO:-0600
TZNAME:CST
DTSTART:20261101T070000
END:STANDARD
END:VTIMEZONE
BEGIN:VEVENT
DTSTART;TZID=America/Chicago:20260222T090000
DTEND;TZID=America/Chicago:20260222T120000
DTSTAMP:20260424T065402
CREATED:20260124T165557Z
LAST-MODIFIED:20260124T170531Z
UID:10000769-1771750800-1771761600@aa-nia.org
SUMMARY:Old Timers Brunch - 28th Annual
DESCRIPTION:Please open this Event and click HERE for flyer
URL:https://aa-nia.org/event/old-timers-brunch-28th-annual/
LOCATION:American Legion Hall\, 515 S. Main Street\, Wauconda\, IL\, 60084\, United States
END:VEVENT
END:VCALENDAR