BEGIN:VCALENDAR
VERSION:2.0
PRODID:-//NIA 20 - ECPv6.10.2//NONSGML v1.0//EN
CALSCALE:GREGORIAN
METHOD:PUBLISH
X-ORIGINAL-URL:https://aa-nia.org
X-WR-CALDESC:Events for NIA 20
REFRESH-INTERVAL;VALUE=DURATION:PT1H
X-Robots-Tag:noindex
X-PUBLISHED-TTL:PT1H
BEGIN:VTIMEZONE
TZID:America/Chicago
BEGIN:DAYLIGHT
TZOFFSETFROM:-0600
TZOFFSETTO:-0500
TZNAME:CDT
DTSTART:20250309T080000
END:DAYLIGHT
BEGIN:STANDARD
TZOFFSETFROM:-0500
TZOFFSETTO:-0600
TZNAME:CST
DTSTART:20251102T070000
END:STANDARD
BEGIN:DAYLIGHT
TZOFFSETFROM:-0600
TZOFFSETTO:-0500
TZNAME:CDT
DTSTART:20260308T080000
END:DAYLIGHT
BEGIN:STANDARD
TZOFFSETFROM:-0500
TZOFFSETTO:-0600
TZNAME:CST
DTSTART:20261101T070000
END:STANDARD
END:VTIMEZONE
BEGIN:VEVENT
DTSTART;TZID=America/Chicago:20260117T080000
DTEND;TZID=America/Chicago:20260117T150000
DTSTAMP:20260420T081722
CREATED:20260101T202921Z
LAST-MODIFIED:20260103T231931Z
UID:10000694-1768636800-1768662000@aa-nia.org
SUMMARY:2026 Winter Committee Meeting
DESCRIPTION:Open this Event and Click HERE for Flyer \n  \nHosted by the NIA 20 Tech Committee
URL:https://aa-nia.org/event/2026-winter-committee-meeting/
LOCATION:Lord of Life\, 40W605 IL-38\, Elburn\, IL\, 60119\, United States
END:VEVENT
BEGIN:VEVENT
DTSTART;TZID=America/Chicago:20251213T080000
DTEND;TZID=America/Chicago:20251213T150000
DTSTAMP:20260420T081722
CREATED:20250802T221313Z
LAST-MODIFIED:20251206T155312Z
UID:10000684-1765612800-1765638000@aa-nia.org
SUMMARY:NIA 20 Winter Assembly
DESCRIPTION:Click HERE to see Flyer \nDistrict 43 Host \nClick HERE to register for Zoom
URL:https://aa-nia.org/event/nia-20-winter-assembly/
LOCATION:Lord of Life\, 40W605 IL-38\, Elburn\, IL\, 60119\, United States
END:VEVENT
BEGIN:VEVENT
DTSTART;TZID=America/Chicago:20251018T093000
DTEND;TZID=America/Chicago:20251018T153000
DTSTAMP:20260420T081722
CREATED:20250711T000444Z
LAST-MODIFIED:20250711T000733Z
UID:10000418-1760779800-1760801400@aa-nia.org
SUMMARY:32nd Big Book Conference
DESCRIPTION:Open Event and Click HERE for Flyer
URL:https://aa-nia.org/event/2025-big-book-conference/
LOCATION:Lord of Life\, 40W605 IL-38\, Elburn\, IL\, 60119\, United States
END:VEVENT
BEGIN:VEVENT
DTSTART;TZID=America/Chicago:20251004T080000
DTEND;TZID=America/Chicago:20251004T150000
DTSTAMP:20260420T081722
CREATED:20250921T173736Z
LAST-MODIFIED:20251003T193325Z
UID:10000686-1759564800-1759590000@aa-nia.org
SUMMARY:2025 Fall Committee Meeting
DESCRIPTION:Click HERE for Flyer \nClick HERE for Zoom Registration \nSee NIA Agendas & Reports from Home Page\, right hand side panel (NIA 20 Tools and Resources) \nHosted by District 11
URL:https://aa-nia.org/event/2025-fall-committee-meeting/
LOCATION:Lord of Life\, 40W605 IL-38\, Elburn\, IL\, 60119\, United States
END:VEVENT
BEGIN:VEVENT
DTSTART;TZID=America/Chicago:20250913T080000
DTEND;TZID=America/Chicago:20250913T160000
DTSTAMP:20260420T081722
CREATED:20250802T215653Z
LAST-MODIFIED:20250802T215924Z
UID:10000683-1757750400-1757779200@aa-nia.org
SUMMARY:NIA Fall ELECTION Assembly
DESCRIPTION:Open Event and Click HERE for Flyer \nClick HERE to Register for Zoom
URL:https://aa-nia.org/event/nia-fall-election-assembly/
LOCATION:Lord of Life\, 40W605 IL-38\, Elburn\, IL\, 60119\, United States
END:VEVENT
BEGIN:VEVENT
DTSTART;TZID=America/Chicago:20250802T090000
DTEND;TZID=America/Chicago:20250802T150000
DTSTAMP:20260420T081722
CREATED:20250726T222307Z
LAST-MODIFIED:20250726T222307Z
UID:10000419-1754125200-1754146800@aa-nia.org
SUMMARY:2025 Summer Committee Meeting
DESCRIPTION:  \nOpen Event and Click HERE for Flyer (English) \nOpen Event and Click HERE for Flyer (Spanish) \nZoom Participants must Register in advance.  Click HERE to Register for Zoom Access
URL:https://aa-nia.org/event/2025-summer-committee-meeting/
LOCATION:Lord of Life\, 40W605 IL-38\, Elburn\, IL\, 60119\, United States
END:VEVENT
BEGIN:VEVENT
DTSTART;TZID=America/Chicago:20250517T190000
DTEND;TZID=America/Chicago:20250517T220000
DTSTAMP:20260420T081722
CREATED:20250313T024505Z
LAST-MODIFIED:20250313T024609Z
UID:10000021-1747508400-1747519200@aa-nia.org
SUMMARY:2025 30th Annual Fox Valley Open
DESCRIPTION:Open Event and click HERE for flyer
URL:https://aa-nia.org/event/2025-30th-annual-fox-valley-open/
LOCATION:Lord of Life\, 40W605 IL-38\, Elburn\, IL\, 60119\, United States
END:VEVENT
BEGIN:VEVENT
DTSTART;TZID=America/Chicago:20250510T090000
DTEND;TZID=America/Chicago:20250510T150000
DTSTAMP:20260420T081722
CREATED:20250504T181742Z
LAST-MODIFIED:20250504T182450Z
UID:10000350-1746867600-1746889200@aa-nia.org
SUMMARY:2025 NIA 20 Spring Committee Meeting
DESCRIPTION:Come Join Us!  Thank you District 61 for Hosting \nRecap of General Service Conference from our NIA20 Delegate \n2025 Area Inventory Breakout Session \nWhat is a Service Sponsor? \nOpen Event and Click HERE for Flyer \nIf Attending by Zoom – Click HERE to Register \nFellowship Begins at 8am \nLunch will be Kabobs – $10 \nClick HERE for Agenda (English) \nHaga clic AQUÍ para la Agenda (Español)
URL:https://aa-nia.org/event/2025-nia-20-spring-committee-meeting/
LOCATION:Lord of Life\, 40W605 IL-38\, Elburn\, IL\, 60119\, United States
END:VEVENT
BEGIN:VEVENT
DTSTART;TZID=America/Chicago:20250111T090000
DTEND;TZID=America/Chicago:20250111T150000
DTSTAMP:20260420T081722
CREATED:20250104T185341Z
LAST-MODIFIED:20250105T001401Z
UID:10000001-1736586000-1736607600@aa-nia.org
SUMMARY:NIA Winter Committee Meeting
DESCRIPTION:Winter Committee Flyer \n 
URL:https://aa-nia.org/event/nia-winter-committee-meeting/
LOCATION:Lord of Life\, 40W605 IL-38\, Elburn\, IL\, 60119\, United States
END:VEVENT
END:VCALENDAR