BEGIN:VCALENDAR
VERSION:2.0
PRODID:-//NIA 20 - ECPv6.10.2//NONSGML v1.0//EN
CALSCALE:GREGORIAN
METHOD:PUBLISH
X-WR-CALNAME:NIA 20
X-ORIGINAL-URL:https://aa-nia.org
X-WR-CALDESC:Events for NIA 20
REFRESH-INTERVAL;VALUE=DURATION:PT1H
X-Robots-Tag:noindex
X-PUBLISHED-TTL:PT1H
BEGIN:VTIMEZONE
TZID:America/Chicago
BEGIN:DAYLIGHT
TZOFFSETFROM:-0600
TZOFFSETTO:-0500
TZNAME:CDT
DTSTART:20260308T080000
END:DAYLIGHT
BEGIN:STANDARD
TZOFFSETFROM:-0500
TZOFFSETTO:-0600
TZNAME:CST
DTSTART:20261101T070000
END:STANDARD
END:VTIMEZONE
BEGIN:VEVENT
DTSTART;TZID=America/Chicago:20260516T080000
DTEND;TZID=America/Chicago:20260516T150000
DTSTAMP:20260420T064633
CREATED:20260101T211343Z
LAST-MODIFIED:20260419T161928Z
UID:10000699-1778918400-1778943600@aa-nia.org
SUMMARY:2026 Spring Committee Meeting
DESCRIPTION:Open This Event and Click HERE for Flyer \n  \nClick HERE to Register if joining by Zoom
URL:https://aa-nia.org/event/2026-spring-committee-meeting/
LOCATION:Lord of Life\, 40W605 IL-38\, Elburn\, IL\, 60119\, United States
END:VEVENT
BEGIN:VEVENT
DTSTART;TZID=America/Chicago:20260516T190000
DTEND;TZID=America/Chicago:20260516T220000
DTSTAMP:20260420T064633
CREATED:20260101T161723Z
LAST-MODIFIED:20260101T202706Z
UID:10000693-1778958000-1778968800@aa-nia.org
SUMMARY:31st Annual Fox Valley Open
DESCRIPTION:Open This Event & Click HERE for flyer
URL:https://aa-nia.org/event/31st-annual-fox-valley-open/
LOCATION:Lord of Life\, 40W605 IL-38\, Elburn\, IL\, 60119\, United States
END:VEVENT
BEGIN:VEVENT
DTSTART;TZID=America/Chicago:20260801T080000
DTEND;TZID=America/Chicago:20260801T150000
DTSTAMP:20260420T064633
CREATED:20260101T212411Z
LAST-MODIFIED:20260101T212411Z
UID:10000702-1785571200-1785596400@aa-nia.org
SUMMARY:Summer Committee Meeting
DESCRIPTION:
URL:https://aa-nia.org/event/summer-committee-meeting/
LOCATION:Lord of Life\, 40W605 IL-38\, Elburn\, IL\, 60119\, United States
END:VEVENT
BEGIN:VEVENT
DTSTART;TZID=America/Chicago:20261003T080000
DTEND;TZID=America/Chicago:20261003T170000
DTSTAMP:20260420T064633
CREATED:20260101T212618Z
LAST-MODIFIED:20260101T212618Z
UID:10000704-1791014400-1791046800@aa-nia.org
SUMMARY:2026 NIA20 Fall Committee Meeting
DESCRIPTION:
URL:https://aa-nia.org/event/2026-nia20-fall-committee-meeting/
LOCATION:Lord of Life\, 40W605 IL-38\, Elburn\, IL\, 60119\, United States
END:VEVENT
END:VCALENDAR