BEGIN:VCALENDAR
VERSION:2.0
PRODID:-//NIA 20 - ECPv6.10.2//NONSGML v1.0//EN
CALSCALE:GREGORIAN
METHOD:PUBLISH
X-ORIGINAL-URL:https://aa-nia.org
X-WR-CALDESC:Events for NIA 20
REFRESH-INTERVAL;VALUE=DURATION:PT1H
X-Robots-Tag:noindex
X-PUBLISHED-TTL:PT1H
BEGIN:VTIMEZONE
TZID:America/Chicago
BEGIN:DAYLIGHT
TZOFFSETFROM:-0600
TZOFFSETTO:-0500
TZNAME:CDT
DTSTART:20260308T080000
END:DAYLIGHT
BEGIN:STANDARD
TZOFFSETFROM:-0500
TZOFFSETTO:-0600
TZNAME:CST
DTSTART:20261101T070000
END:STANDARD
BEGIN:DAYLIGHT
TZOFFSETFROM:-0600
TZOFFSETTO:-0500
TZNAME:CDT
DTSTART:20270314T080000
END:DAYLIGHT
BEGIN:STANDARD
TZOFFSETFROM:-0500
TZOFFSETTO:-0600
TZNAME:CST
DTSTART:20271107T070000
END:STANDARD
BEGIN:DAYLIGHT
TZOFFSETFROM:-0600
TZOFFSETTO:-0500
TZNAME:CDT
DTSTART:20280312T080000
END:DAYLIGHT
BEGIN:STANDARD
TZOFFSETFROM:-0500
TZOFFSETTO:-0600
TZNAME:CST
DTSTART:20281105T070000
END:STANDARD
END:VTIMEZONE
BEGIN:VEVENT
DTSTART;TZID=America/Chicago:20260510T160000
DTEND;TZID=America/Chicago:20260510T170000
DTSTAMP:20260420T064507
CREATED:20260113T001652Z
LAST-MODIFIED:20260113T001652Z
UID:10000710-1778428800-1778432400@aa-nia.org
SUMMARY:Archives Monthly Sharing Session
DESCRIPTION:Open event and click here for the flyer. \nZOOM MEETING ID: 847 7879 2869\nPasscode: 516980 OR\nCall in +13126266799\, US (Chicago)
URL:https://aa-nia.org/event/archives-monthly-sharing-session/2026-05-10/
LOCATION:ZOOM
END:VEVENT
BEGIN:VEVENT
DTSTART;TZID=America/Chicago:20260614T160000
DTEND;TZID=America/Chicago:20260614T170000
DTSTAMP:20260420T064507
CREATED:20260113T001652Z
LAST-MODIFIED:20260113T001652Z
UID:10000711-1781452800-1781456400@aa-nia.org
SUMMARY:Archives Monthly Sharing Session
DESCRIPTION:Open event and click here for the flyer. \nZOOM MEETING ID: 847 7879 2869\nPasscode: 516980 OR\nCall in +13126266799\, US (Chicago)
URL:https://aa-nia.org/event/archives-monthly-sharing-session/2026-06-14/
LOCATION:ZOOM
END:VEVENT
BEGIN:VEVENT
DTSTART;TZID=America/Chicago:20260712T160000
DTEND;TZID=America/Chicago:20260712T170000
DTSTAMP:20260420T064507
CREATED:20260113T001652Z
LAST-MODIFIED:20260113T001652Z
UID:10000712-1783872000-1783875600@aa-nia.org
SUMMARY:Archives Monthly Sharing Session
DESCRIPTION:Open event and click here for the flyer. \nZOOM MEETING ID: 847 7879 2869\nPasscode: 516980 OR\nCall in +13126266799\, US (Chicago)
URL:https://aa-nia.org/event/archives-monthly-sharing-session/2026-07-12/
LOCATION:ZOOM
END:VEVENT
BEGIN:VEVENT
DTSTART;TZID=America/Chicago:20260809T160000
DTEND;TZID=America/Chicago:20260809T170000
DTSTAMP:20260420T064507
CREATED:20260113T001652Z
LAST-MODIFIED:20260113T001652Z
UID:10000713-1786291200-1786294800@aa-nia.org
SUMMARY:Archives Monthly Sharing Session
DESCRIPTION:Open event and click here for the flyer. \nZOOM MEETING ID: 847 7879 2869\nPasscode: 516980 OR\nCall in +13126266799\, US (Chicago)
URL:https://aa-nia.org/event/archives-monthly-sharing-session/2026-08-09/
LOCATION:ZOOM
END:VEVENT
BEGIN:VEVENT
DTSTART;TZID=America/Chicago:20260913T160000
DTEND;TZID=America/Chicago:20260913T170000
DTSTAMP:20260420T064507
CREATED:20260113T001652Z
LAST-MODIFIED:20260113T001652Z
UID:10000714-1789315200-1789318800@aa-nia.org
SUMMARY:Archives Monthly Sharing Session
DESCRIPTION:Open event and click here for the flyer. \nZOOM MEETING ID: 847 7879 2869\nPasscode: 516980 OR\nCall in +13126266799\, US (Chicago)
URL:https://aa-nia.org/event/archives-monthly-sharing-session/2026-09-13/
LOCATION:ZOOM
END:VEVENT
BEGIN:VEVENT
DTSTART;TZID=America/Chicago:20261011T160000
DTEND;TZID=America/Chicago:20261011T170000
DTSTAMP:20260420T064507
CREATED:20260113T001652Z
LAST-MODIFIED:20260113T001652Z
UID:10000715-1791734400-1791738000@aa-nia.org
SUMMARY:Archives Monthly Sharing Session
DESCRIPTION:Open event and click here for the flyer. \nZOOM MEETING ID: 847 7879 2869\nPasscode: 516980 OR\nCall in +13126266799\, US (Chicago)
URL:https://aa-nia.org/event/archives-monthly-sharing-session/2026-10-11/
LOCATION:ZOOM
END:VEVENT
BEGIN:VEVENT
DTSTART;TZID=America/Chicago:20261108T160000
DTEND;TZID=America/Chicago:20261108T170000
DTSTAMP:20260420T064507
CREATED:20260113T001652Z
LAST-MODIFIED:20260113T001652Z
UID:10000716-1794153600-1794157200@aa-nia.org
SUMMARY:Archives Monthly Sharing Session
DESCRIPTION:Open event and click here for the flyer. \nZOOM MEETING ID: 847 7879 2869\nPasscode: 516980 OR\nCall in +13126266799\, US (Chicago)
URL:https://aa-nia.org/event/archives-monthly-sharing-session/2026-11-08/
LOCATION:ZOOM
END:VEVENT
BEGIN:VEVENT
DTSTART;TZID=America/Chicago:20261213T160000
DTEND;TZID=America/Chicago:20261213T170000
DTSTAMP:20260420T064507
CREATED:20260113T001652Z
LAST-MODIFIED:20260113T001652Z
UID:10000717-1797177600-1797181200@aa-nia.org
SUMMARY:Archives Monthly Sharing Session
DESCRIPTION:Open event and click here for the flyer. \nZOOM MEETING ID: 847 7879 2869\nPasscode: 516980 OR\nCall in +13126266799\, US (Chicago)
URL:https://aa-nia.org/event/archives-monthly-sharing-session/2026-12-13/
LOCATION:ZOOM
END:VEVENT
BEGIN:VEVENT
DTSTART;TZID=America/Chicago:20270110T160000
DTEND;TZID=America/Chicago:20270110T170000
DTSTAMP:20260420T064507
CREATED:20260113T001652Z
LAST-MODIFIED:20260113T001652Z
UID:10000718-1799596800-1799600400@aa-nia.org
SUMMARY:Archives Monthly Sharing Session
DESCRIPTION:Open event and click here for the flyer. \nZOOM MEETING ID: 847 7879 2869\nPasscode: 516980 OR\nCall in +13126266799\, US (Chicago)
URL:https://aa-nia.org/event/archives-monthly-sharing-session/2027-01-10/
LOCATION:ZOOM
END:VEVENT
BEGIN:VEVENT
DTSTART;TZID=America/Chicago:20270214T160000
DTEND;TZID=America/Chicago:20270214T170000
DTSTAMP:20260420T064507
CREATED:20260113T001652Z
LAST-MODIFIED:20260113T001652Z
UID:10000719-1802620800-1802624400@aa-nia.org
SUMMARY:Archives Monthly Sharing Session
DESCRIPTION:Open event and click here for the flyer. \nZOOM MEETING ID: 847 7879 2869\nPasscode: 516980 OR\nCall in +13126266799\, US (Chicago)
URL:https://aa-nia.org/event/archives-monthly-sharing-session/2027-02-14/
LOCATION:ZOOM
END:VEVENT
BEGIN:VEVENT
DTSTART;TZID=America/Chicago:20270314T160000
DTEND;TZID=America/Chicago:20270314T170000
DTSTAMP:20260420T064507
CREATED:20260113T001652Z
LAST-MODIFIED:20260113T001652Z
UID:10000720-1805040000-1805043600@aa-nia.org
SUMMARY:Archives Monthly Sharing Session
DESCRIPTION:Open event and click here for the flyer. \nZOOM MEETING ID: 847 7879 2869\nPasscode: 516980 OR\nCall in +13126266799\, US (Chicago)
URL:https://aa-nia.org/event/archives-monthly-sharing-session/2027-03-14/
LOCATION:ZOOM
END:VEVENT
BEGIN:VEVENT
DTSTART;TZID=America/Chicago:20270411T160000
DTEND;TZID=America/Chicago:20270411T170000
DTSTAMP:20260420T064507
CREATED:20260113T001652Z
LAST-MODIFIED:20260113T001652Z
UID:10000721-1807459200-1807462800@aa-nia.org
SUMMARY:Archives Monthly Sharing Session
DESCRIPTION:Open event and click here for the flyer. \nZOOM MEETING ID: 847 7879 2869\nPasscode: 516980 OR\nCall in +13126266799\, US (Chicago)
URL:https://aa-nia.org/event/archives-monthly-sharing-session/2027-04-11/
LOCATION:ZOOM
END:VEVENT
BEGIN:VEVENT
DTSTART;TZID=America/Chicago:20270509T160000
DTEND;TZID=America/Chicago:20270509T170000
DTSTAMP:20260420T064507
CREATED:20260113T001652Z
LAST-MODIFIED:20260113T001652Z
UID:10000722-1809878400-1809882000@aa-nia.org
SUMMARY:Archives Monthly Sharing Session
DESCRIPTION:Open event and click here for the flyer. \nZOOM MEETING ID: 847 7879 2869\nPasscode: 516980 OR\nCall in +13126266799\, US (Chicago)
URL:https://aa-nia.org/event/archives-monthly-sharing-session/2027-05-09/
LOCATION:ZOOM
END:VEVENT
BEGIN:VEVENT
DTSTART;TZID=America/Chicago:20270613T160000
DTEND;TZID=America/Chicago:20270613T170000
DTSTAMP:20260420T064507
CREATED:20260113T001652Z
LAST-MODIFIED:20260113T001652Z
UID:10000723-1812902400-1812906000@aa-nia.org
SUMMARY:Archives Monthly Sharing Session
DESCRIPTION:Open event and click here for the flyer. \nZOOM MEETING ID: 847 7879 2869\nPasscode: 516980 OR\nCall in +13126266799\, US (Chicago)
URL:https://aa-nia.org/event/archives-monthly-sharing-session/2027-06-13/
LOCATION:ZOOM
END:VEVENT
BEGIN:VEVENT
DTSTART;TZID=America/Chicago:20270711T160000
DTEND;TZID=America/Chicago:20270711T170000
DTSTAMP:20260420T064507
CREATED:20260113T001652Z
LAST-MODIFIED:20260113T001652Z
UID:10000724-1815321600-1815325200@aa-nia.org
SUMMARY:Archives Monthly Sharing Session
DESCRIPTION:Open event and click here for the flyer. \nZOOM MEETING ID: 847 7879 2869\nPasscode: 516980 OR\nCall in +13126266799\, US (Chicago)
URL:https://aa-nia.org/event/archives-monthly-sharing-session/2027-07-11/
LOCATION:ZOOM
END:VEVENT
BEGIN:VEVENT
DTSTART;TZID=America/Chicago:20270808T160000
DTEND;TZID=America/Chicago:20270808T170000
DTSTAMP:20260420T064507
CREATED:20260113T001652Z
LAST-MODIFIED:20260113T001652Z
UID:10000725-1817740800-1817744400@aa-nia.org
SUMMARY:Archives Monthly Sharing Session
DESCRIPTION:Open event and click here for the flyer. \nZOOM MEETING ID: 847 7879 2869\nPasscode: 516980 OR\nCall in +13126266799\, US (Chicago)
URL:https://aa-nia.org/event/archives-monthly-sharing-session/2027-08-08/
LOCATION:ZOOM
END:VEVENT
BEGIN:VEVENT
DTSTART;TZID=America/Chicago:20270912T160000
DTEND;TZID=America/Chicago:20270912T170000
DTSTAMP:20260420T064507
CREATED:20260113T001652Z
LAST-MODIFIED:20260113T001652Z
UID:10000726-1820764800-1820768400@aa-nia.org
SUMMARY:Archives Monthly Sharing Session
DESCRIPTION:Open event and click here for the flyer. \nZOOM MEETING ID: 847 7879 2869\nPasscode: 516980 OR\nCall in +13126266799\, US (Chicago)
URL:https://aa-nia.org/event/archives-monthly-sharing-session/2027-09-12/
LOCATION:ZOOM
END:VEVENT
BEGIN:VEVENT
DTSTART;TZID=America/Chicago:20271010T160000
DTEND;TZID=America/Chicago:20271010T170000
DTSTAMP:20260420T064507
CREATED:20260113T001652Z
LAST-MODIFIED:20260113T001652Z
UID:10000727-1823184000-1823187600@aa-nia.org
SUMMARY:Archives Monthly Sharing Session
DESCRIPTION:Open event and click here for the flyer. \nZOOM MEETING ID: 847 7879 2869\nPasscode: 516980 OR\nCall in +13126266799\, US (Chicago)
URL:https://aa-nia.org/event/archives-monthly-sharing-session/2027-10-10/
LOCATION:ZOOM
END:VEVENT
BEGIN:VEVENT
DTSTART;TZID=America/Chicago:20271114T160000
DTEND;TZID=America/Chicago:20271114T170000
DTSTAMP:20260420T064507
CREATED:20260113T001652Z
LAST-MODIFIED:20260113T001652Z
UID:10000728-1826208000-1826211600@aa-nia.org
SUMMARY:Archives Monthly Sharing Session
DESCRIPTION:Open event and click here for the flyer. \nZOOM MEETING ID: 847 7879 2869\nPasscode: 516980 OR\nCall in +13126266799\, US (Chicago)
URL:https://aa-nia.org/event/archives-monthly-sharing-session/2027-11-14/
LOCATION:ZOOM
END:VEVENT
BEGIN:VEVENT
DTSTART;TZID=America/Chicago:20271212T160000
DTEND;TZID=America/Chicago:20271212T170000
DTSTAMP:20260420T064507
CREATED:20260113T001652Z
LAST-MODIFIED:20260113T001652Z
UID:10000729-1828627200-1828630800@aa-nia.org
SUMMARY:Archives Monthly Sharing Session
DESCRIPTION:Open event and click here for the flyer. \nZOOM MEETING ID: 847 7879 2869\nPasscode: 516980 OR\nCall in +13126266799\, US (Chicago)
URL:https://aa-nia.org/event/archives-monthly-sharing-session/2027-12-12/
LOCATION:ZOOM
END:VEVENT
BEGIN:VEVENT
DTSTART;TZID=America/Chicago:20280109T160000
DTEND;TZID=America/Chicago:20280109T170000
DTSTAMP:20260420T064507
CREATED:20260113T001652Z
LAST-MODIFIED:20260113T001652Z
UID:10000730-1831046400-1831050000@aa-nia.org
SUMMARY:Archives Monthly Sharing Session
DESCRIPTION:Open event and click here for the flyer. \nZOOM MEETING ID: 847 7879 2869\nPasscode: 516980 OR\nCall in +13126266799\, US (Chicago)
URL:https://aa-nia.org/event/archives-monthly-sharing-session/2028-01-09/
LOCATION:ZOOM
END:VEVENT
BEGIN:VEVENT
DTSTART;TZID=America/Chicago:20280213T160000
DTEND;TZID=America/Chicago:20280213T170000
DTSTAMP:20260420T064507
CREATED:20260113T001652Z
LAST-MODIFIED:20260113T001652Z
UID:10000731-1834070400-1834074000@aa-nia.org
SUMMARY:Archives Monthly Sharing Session
DESCRIPTION:Open event and click here for the flyer. \nZOOM MEETING ID: 847 7879 2869\nPasscode: 516980 OR\nCall in +13126266799\, US (Chicago)
URL:https://aa-nia.org/event/archives-monthly-sharing-session/2028-02-13/
LOCATION:ZOOM
END:VEVENT
BEGIN:VEVENT
DTSTART;TZID=America/Chicago:20280312T160000
DTEND;TZID=America/Chicago:20280312T170000
DTSTAMP:20260420T064507
CREATED:20260113T001652Z
LAST-MODIFIED:20260113T001652Z
UID:10000732-1836489600-1836493200@aa-nia.org
SUMMARY:Archives Monthly Sharing Session
DESCRIPTION:Open event and click here for the flyer. \nZOOM MEETING ID: 847 7879 2869\nPasscode: 516980 OR\nCall in +13126266799\, US (Chicago)
URL:https://aa-nia.org/event/archives-monthly-sharing-session/2028-03-12/
LOCATION:ZOOM
END:VEVENT
BEGIN:VEVENT
DTSTART;TZID=America/Chicago:20280409T160000
DTEND;TZID=America/Chicago:20280409T170000
DTSTAMP:20260420T064507
CREATED:20260113T001652Z
LAST-MODIFIED:20260113T001652Z
UID:10000733-1838908800-1838912400@aa-nia.org
SUMMARY:Archives Monthly Sharing Session
DESCRIPTION:Open event and click here for the flyer. \nZOOM MEETING ID: 847 7879 2869\nPasscode: 516980 OR\nCall in +13126266799\, US (Chicago)
URL:https://aa-nia.org/event/archives-monthly-sharing-session/2028-04-09/
LOCATION:ZOOM
END:VEVENT
BEGIN:VEVENT
DTSTART;TZID=America/Chicago:20280514T160000
DTEND;TZID=America/Chicago:20280514T170000
DTSTAMP:20260420T064507
CREATED:20260113T001652Z
LAST-MODIFIED:20260113T001652Z
UID:10000734-1841932800-1841936400@aa-nia.org
SUMMARY:Archives Monthly Sharing Session
DESCRIPTION:Open event and click here for the flyer. \nZOOM MEETING ID: 847 7879 2869\nPasscode: 516980 OR\nCall in +13126266799\, US (Chicago)
URL:https://aa-nia.org/event/archives-monthly-sharing-session/2028-05-14/
LOCATION:ZOOM
END:VEVENT
BEGIN:VEVENT
DTSTART;TZID=America/Chicago:20280611T160000
DTEND;TZID=America/Chicago:20280611T170000
DTSTAMP:20260420T064507
CREATED:20260113T001652Z
LAST-MODIFIED:20260113T001652Z
UID:10000735-1844352000-1844355600@aa-nia.org
SUMMARY:Archives Monthly Sharing Session
DESCRIPTION:Open event and click here for the flyer. \nZOOM MEETING ID: 847 7879 2869\nPasscode: 516980 OR\nCall in +13126266799\, US (Chicago)
URL:https://aa-nia.org/event/archives-monthly-sharing-session/2028-06-11/
LOCATION:ZOOM
END:VEVENT
BEGIN:VEVENT
DTSTART;TZID=America/Chicago:20280709T160000
DTEND;TZID=America/Chicago:20280709T170000
DTSTAMP:20260420T064507
CREATED:20260113T001652Z
LAST-MODIFIED:20260113T001652Z
UID:10000736-1846771200-1846774800@aa-nia.org
SUMMARY:Archives Monthly Sharing Session
DESCRIPTION:Open event and click here for the flyer. \nZOOM MEETING ID: 847 7879 2869\nPasscode: 516980 OR\nCall in +13126266799\, US (Chicago)
URL:https://aa-nia.org/event/archives-monthly-sharing-session/2028-07-09/
LOCATION:ZOOM
END:VEVENT
BEGIN:VEVENT
DTSTART;TZID=America/Chicago:20280813T160000
DTEND;TZID=America/Chicago:20280813T170000
DTSTAMP:20260420T064507
CREATED:20260113T001652Z
LAST-MODIFIED:20260113T001652Z
UID:10000737-1849795200-1849798800@aa-nia.org
SUMMARY:Archives Monthly Sharing Session
DESCRIPTION:Open event and click here for the flyer. \nZOOM MEETING ID: 847 7879 2869\nPasscode: 516980 OR\nCall in +13126266799\, US (Chicago)
URL:https://aa-nia.org/event/archives-monthly-sharing-session/2028-08-13/
LOCATION:ZOOM
END:VEVENT
BEGIN:VEVENT
DTSTART;TZID=America/Chicago:20280910T160000
DTEND;TZID=America/Chicago:20280910T170000
DTSTAMP:20260420T064507
CREATED:20260113T001652Z
LAST-MODIFIED:20260113T001652Z
UID:10000738-1852214400-1852218000@aa-nia.org
SUMMARY:Archives Monthly Sharing Session
DESCRIPTION:Open event and click here for the flyer. \nZOOM MEETING ID: 847 7879 2869\nPasscode: 516980 OR\nCall in +13126266799\, US (Chicago)
URL:https://aa-nia.org/event/archives-monthly-sharing-session/2028-09-10/
LOCATION:ZOOM
END:VEVENT
BEGIN:VEVENT
DTSTART;TZID=America/Chicago:20281008T160000
DTEND;TZID=America/Chicago:20281008T170000
DTSTAMP:20260420T064507
CREATED:20260113T001652Z
LAST-MODIFIED:20260113T001652Z
UID:10000739-1854633600-1854637200@aa-nia.org
SUMMARY:Archives Monthly Sharing Session
DESCRIPTION:Open event and click here for the flyer. \nZOOM MEETING ID: 847 7879 2869\nPasscode: 516980 OR\nCall in +13126266799\, US (Chicago)
URL:https://aa-nia.org/event/archives-monthly-sharing-session/2028-10-08/
LOCATION:ZOOM
END:VEVENT
END:VCALENDAR